BEGIN:VCALENDAR
VERSION:2.0
PRODID:-//Bluffdale ACM Chapter - ECPv6.15.17.1//NONSGML v1.0//EN
CALSCALE:GREGORIAN
METHOD:PUBLISH
X-WR-CALNAME:Bluffdale ACM Chapter
X-ORIGINAL-URL:https://bluffdale.acm.org
X-WR-CALDESC:Events for Bluffdale ACM Chapter
REFRESH-INTERVAL;VALUE=DURATION:PT1H
X-Robots-Tag:noindex
X-PUBLISHED-TTL:PT1H
BEGIN:VTIMEZONE
TZID:UTC
BEGIN:STANDARD
TZOFFSETFROM:+0000
TZOFFSETTO:+0000
TZNAME:UTC
DTSTART:20250101T000000
END:STANDARD
END:VTIMEZONE
BEGIN:VEVENT
DTSTART;TZID=UTC:20260418T000000
DTEND;TZID=UTC:20260419T235959
DTSTAMP:20260419T124813
CREATED:20260322T044523Z
LAST-MODIFIED:20260322T050230Z
UID:252-1776470400-1776643199@bluffdale.acm.org
SUMMARY:SmallAI Hackathon
DESCRIPTION:Sign Up today https://smallai2026.thescrs.org/\nBuild the future with AI- in  48 hours\nJoin the 2nd SmallAI Hackathon and launch real prototypes fast.\n\n\n\n\n\n\n\n\n\n\n  \n\n\nOrganized by Bluffdale ACM Chapter\, Salt Lake County\, Silicon Slopes\, Utah\, USA\nTechnically Sponsored by SCRS US Center at WUST
URL:https://bluffdale.acm.org/event/smallai-hackathon/
END:VEVENT
END:VCALENDAR